BEGIN:VCALENDAR
VERSION:2.0
PRODID:-//Aceituna - ECPv6.10.1.1//NONSGML v1.0//EN
CALSCALE:GREGORIAN
METHOD:PUBLISH
X-ORIGINAL-URL:https://aceituna.yayestudio.com
X-WR-CALDESC:Eventos para Aceituna
REFRESH-INTERVAL;VALUE=DURATION:PT1H
X-Robots-Tag:noindex
X-PUBLISHED-TTL:PT1H
BEGIN:VTIMEZONE
TZID:UTC
BEGIN:STANDARD
TZOFFSETFROM:+0000
TZOFFSETTO:+0000
TZNAME:UTC
DTSTART:20240101T000000
END:STANDARD
END:VTIMEZONE
BEGIN:VEVENT
DTSTART;TZID=UTC:20240806T080000
DTEND;TZID=UTC:20240806T090000
DTSTAMP:20260421T191443
CREATED:20240730T223822Z
LAST-MODIFIED:20240730T224307Z
UID:835-1722931200-1722934800@aceituna.yayestudio.com
SUMMARY:Yoga
DESCRIPTION:Contribuye a tu flexibilidad\, fuerza muscular y relajación mental\, en consecuencia\, mejorar el sueño y bienestar emocional.
URL:https://aceituna.yayestudio.com/evento/yoga/
LOCATION:ESSENTIAL ATHLETIC CENTER\, Av. Plan de San Luis 1472\, Mezquitan\, 44260 Guadalajara\, Jal.\, Guadalajara\, Jalisco\, 44260\, Mexico
CATEGORIES:Sentir,Yoga
ATTACH;FMTTYPE=image/jpeg:https://aceituna.yayestudio.com/wp-content/uploads/2024/07/imag-evento-yoga.jpg
END:VEVENT
END:VCALENDAR