BEGIN:VCALENDAR
VERSION:2.0
PRODID:-//Aceituna - ECPv6.10.1.1//NONSGML v1.0//EN
CALSCALE:GREGORIAN
METHOD:PUBLISH
X-ORIGINAL-URL:https://aceituna.yayestudio.com
X-WR-CALDESC:Eventos para Aceituna
REFRESH-INTERVAL;VALUE=DURATION:PT1H
X-Robots-Tag:noindex
X-PUBLISHED-TTL:PT1H
BEGIN:VTIMEZONE
TZID:UTC
BEGIN:STANDARD
TZOFFSETFROM:+0000
TZOFFSETTO:+0000
TZNAME:UTC
DTSTART:20240101T000000
END:STANDARD
END:VTIMEZONE
BEGIN:VEVENT
DTSTART;TZID=UTC:20240807T100000
DTEND;TZID=UTC:20240807T130000
DTSTAMP:20260421T191433
CREATED:20240724T205336Z
LAST-MODIFIED:20240730T220454Z
UID:475-1723024800-1723035600@aceituna.yayestudio.com
SUMMARY:Pintura
DESCRIPTION:Explorar el arte a través de la pintura es una actividad maravillosa\, que además es una forma de expresión creativa que mejora la salud mental y emocional. Ayudan a mejorar la autoestima y la autonomía\, manteniendo la mente y el cuerpo activos. \n¡Anímate a descubrir el artista que llevas dentro y experimenta la alegría de crear tu propia obra de arte!
URL:https://aceituna.yayestudio.com/evento/pintura/
LOCATION:Aceituna experience\, Rubens 5273\, Real Vallarta\, 45020 Zapopan\, Jal.\, Guadalajara\, Jalisco\, 45020\, Mexico
CATEGORIES:Aprender,Pintura
ATTACH;FMTTYPE=image/jpeg:https://aceituna.yayestudio.com/wp-content/uploads/2024/07/imag-evento-pintura.jpg
END:VEVENT
BEGIN:VEVENT
DTSTART;TZID=UTC:20240807T180000
DTEND;TZID=UTC:20240807T190000
DTSTAMP:20260421T191433
CREATED:20240730T225440Z
LAST-MODIFIED:20240730T225440Z
UID:842-1723053600-1723057200@aceituna.yayestudio.com
SUMMARY:Estilo personal para damas y caballeros
DESCRIPTION:
URL:https://aceituna.yayestudio.com/evento/estilo/
LOCATION:Aceituna experience\, Rubens 5273\, Real Vallarta\, 45020 Zapopan\, Jal.\, Guadalajara\, Jalisco\, 45020\, Mexico
CATEGORIES:Aprender,Estilo personal para damas y caballeros
ATTACH;FMTTYPE=image/jpeg:https://aceituna.yayestudio.com/wp-content/uploads/2024/07/imag-evento-estilo.jpg
END:VEVENT
END:VCALENDAR