BEGIN:VCALENDAR
VERSION:2.0
PRODID:-//Aceituna - ECPv6.10.1.1//NONSGML v1.0//EN
CALSCALE:GREGORIAN
METHOD:PUBLISH
X-ORIGINAL-URL:https://aceituna.yayestudio.com
X-WR-CALDESC:Eventos para Aceituna
REFRESH-INTERVAL;VALUE=DURATION:PT1H
X-Robots-Tag:noindex
X-PUBLISHED-TTL:PT1H
BEGIN:VTIMEZONE
TZID:UTC
BEGIN:STANDARD
TZOFFSETFROM:+0000
TZOFFSETTO:+0000
TZNAME:UTC
DTSTART:20240101T000000
END:STANDARD
END:VTIMEZONE
BEGIN:VEVENT
DTSTART;TZID=UTC:20240812T090000
DTEND;TZID=UTC:20240812T110000
DTSTAMP:20260421T191448
CREATED:20240730T222358Z
LAST-MODIFIED:20240730T222533Z
UID:833-1723453200-1723460400@aceituna.yayestudio.com
SUMMARY:Power
DESCRIPTION:Disfruta de una actividad que te permite avanzar a tu propio ritmo y al mismo tiempo\, socializar y fortalecer la comunidad.
URL:https://aceituna.yayestudio.com/evento/power-2/
LOCATION:ESSENTIAL ATHLETIC CENTER\, Av. Plan de San Luis 1472\, Mezquitan\, 44260 Guadalajara\, Jal.\, Guadalajara\, Jalisco\, 44260\, Mexico
CATEGORIES:Power,Sentir
ATTACH;FMTTYPE=image/jpeg:https://aceituna.yayestudio.com/wp-content/uploads/2024/07/imag-evento-power.jpg
END:VEVENT
END:VCALENDAR