BEGIN:VCALENDAR
VERSION:2.0
PRODID:-//Aceituna - ECPv6.10.1.1//NONSGML v1.0//EN
CALSCALE:GREGORIAN
METHOD:PUBLISH
X-WR-CALNAME:Aceituna
X-ORIGINAL-URL:https://aceituna.yayestudio.com
X-WR-CALDESC:Eventos para Aceituna
REFRESH-INTERVAL;VALUE=DURATION:PT1H
X-Robots-Tag:noindex
X-PUBLISHED-TTL:PT1H
BEGIN:VTIMEZONE
TZID:UTC
BEGIN:STANDARD
TZOFFSETFROM:+0000
TZOFFSETTO:+0000
TZNAME:UTC
DTSTART:20250101T000000
END:STANDARD
END:VTIMEZONE
BEGIN:VEVENT
DTSTART;TZID=UTC:20250519T090000
DTEND;TZID=UTC:20250805T100000
DTSTAMP:20260422T135234
CREATED:20250224T182610Z
LAST-MODIFIED:20250430T235510Z
UID:1018-1747645200-1754388000@aceituna.yayestudio.com
SUMMARY:1 | Danza Terapia
DESCRIPTION:MOVER EL CUERPO\, LIBERA LA MENTE. \nUn espacio para reconectar contigo a través del movimiento. No se trata de saber bailar\, sino de permitir que el cuerpo exprese lo que a veces las palabras no pueden decir.\nLa danza terapia nos ayuda a liberar tensiones\, explorar emociones y habitar nuestro cuerpo con más conciencia y libertad. Todo en un ambiente seguro\, sin juicios y lleno de energía.
URL:https://aceituna.yayestudio.com/evento/danza-terapia/
LOCATION:ESSENTIAL ATHLETIC CENTER\, Av. Plan de San Luis 1472\, Mezquitan\, 44260 Guadalajara\, Jal.\, Guadalajara\, Jalisco\, 44260\, Mexico
CATEGORIES:Danza terapia,Sentir
ATTACH;FMTTYPE=image/png:https://aceituna.yayestudio.com/wp-content/uploads/2025/02/fdo-danza-02.png
END:VEVENT
BEGIN:VEVENT
DTSTART;TZID=UTC:20250603T090000
DTEND;TZID=UTC:20251202T100000
DTSTAMP:20260422T135234
CREATED:20250430T235337Z
LAST-MODIFIED:20250430T235337Z
UID:1274-1748941200-1764669600@aceituna.yayestudio.com
SUMMARY:2 | Danza Terapia
DESCRIPTION:MOVER EL CUERPO\, LIBERA LA MENTE. \nUn espacio para reconectar contigo a través del movimiento. No se trata de saber bailar\, sino de permitir que el cuerpo exprese lo que a veces las palabras no pueden decir.\nLa danza terapia nos ayuda a liberar tensiones\, explorar emociones y habitar nuestro cuerpo con más conciencia y libertad. Todo en un ambiente seguro\, sin juicios y lleno de energía.
URL:https://aceituna.yayestudio.com/evento/danza-terapia-2/
LOCATION:ESSENTIAL ATHLETIC CENTER\, Av. Plan de San Luis 1472\, Mezquitan\, 44260 Guadalajara\, Jal.\, Guadalajara\, Jalisco\, 44260\, Mexico
CATEGORIES:Danza terapia,Sentir
ATTACH;FMTTYPE=image/png:https://aceituna.yayestudio.com/wp-content/uploads/2025/02/fdo-danza-02.png
END:VEVENT
BEGIN:VEVENT
DTSTART;TZID=UTC:20250605T080000
DTEND;TZID=UTC:20250605T170000
DTSTAMP:20260422T135234
CREATED:20250428T180813Z
LAST-MODIFIED:20250502T205209Z
UID:1169-1749110400-1749142800@aceituna.yayestudio.com
SUMMARY:1 | The French Cata
DESCRIPTION:UNA NOCHE FRANCESA ENTRE SABORES E HISTORIAS.\n\nUna experiencia gastronómica única\, creada por un chef francés que se aleja de lo típico para sorprenderte con platillos llenos de sabor y autenticidad. Todo acompañado por una selección de vinos franceses elegidos y presentados por un enólogo francés\, quien nos guía a través de los sabores\, las uvas\, el terroir\, el clima y la historia que dan vida a cada copa.\nUn evento que se puede organizar en bodega\, tu domicilio o lugar de tu preferencia.
URL:https://aceituna.yayestudio.com/evento/the-french-cata-1/
LOCATION:ESSENTIAL ATHLETIC CENTER\, Av. Plan de San Luis 1472\, Mezquitan\, 44260 Guadalajara\, Jal.\, Guadalajara\, Jalisco\, 44260\, Mexico
CATEGORIES:Sentir,The French Cata
ATTACH;FMTTYPE=image/png:https://aceituna.yayestudio.com/wp-content/uploads/2025/04/fdo-french-cata.png
END:VEVENT
BEGIN:VEVENT
DTSTART;TZID=UTC:20250612T190000
DTEND;TZID=UTC:20250612T213000
DTSTAMP:20260422T135234
CREATED:20250502T205146Z
LAST-MODIFIED:20250502T205146Z
UID:1386-1749754800-1749763800@aceituna.yayestudio.com
SUMMARY:2 | The French Cata
DESCRIPTION:UNA NOCHE FRANCESA ENTRE SABORES E HISTORIAS.\n\nUna experiencia gastronómica única\, creada por un chef francés que se aleja de lo típico para sorprenderte con platillos llenos de sabor y autenticidad. Todo acompañado por una selección de vinos franceses elegidos y presentados por un enólogo francés\, quien nos guía a través de los sabores\, las uvas\, el terroir\, el clima y la historia que dan vida a cada copa.\nUn evento que se puede organizar en bodega\, tu domicilio o lugar de tu preferencia.
URL:https://aceituna.yayestudio.com/evento/the-french-cata-2/
LOCATION:Aceituna experience\, Rubens 5273\, Real Vallarta\, 45020 Zapopan\, Jal.\, Guadalajara\, Jalisco\, 45020\, Mexico
CATEGORIES:Sentir,The French Cata
ATTACH;FMTTYPE=image/png:https://aceituna.yayestudio.com/wp-content/uploads/2025/04/fdo-french-cata.png
END:VEVENT
END:VCALENDAR